Workbook

Sheet Monatsplan
A2: Monatsplan | I2: Zeitraum: | K2: März 2026
A3: Aufgaben-, Termin- und Zeitplanung im Monatsüberblick · Beispieldaten – vollständig überschreibbar
A5: =COUNTA(E9:E40) -> 26 | C5: =COUNTIF(H9:H40,"Erledigt") -> 8 | E5: =COUNTIF(H9:H40,"In Bearbeitung") -> 6 | G5: =COUNTIF(H9:H40,"Offen") -> 11 | I5: =IFERROR(AVERAGEIF(E9:E40,"<>",M9:M40),0) -> 0.43653846 | K5: =SUM(J9:J40) -> 25.5 | M5: =SUM(L9:L40) -> 520
A6: Aufgaben gesamt | C6: Erledigt | E6: In Bearbeitung | G6: Offen | I6: Ø Fortschritt | K6: Ist-Stunden (∑) | M6: Kosten (∑)
A8: Nr. | B8: Datum | C8: Wochen- tag | D8: Kategorie | E8: Aufgabe / Termin | F8: Verantwortlich | G8: Priorität | H8: Status | I8: Geplant (Std.) | J8: Ist (Std.) | K8: Abw. (Std.) | L8: Kosten (€) | M8: Fortschritt | N8: Notiz
A9: =IF($E9="","",COUNTA($E$9:$E9)) -> 1 | B9: 46083 | C9: =IF($B9="","",CHOOSE(WEEKDAY($B9,2),"Mo","Di","Mi","Do","Fr","Sa","So")) -> Mo | D9: Besprechung | E9: Monatsauftakt / Team-Meeting | F9: Team | G9: Mittel | H9: Erledigt | I9: 1 | J9: 1 | K9: =IF($E9="","",IF($J9=0,"",$J9-$I9)) -> 0 | L9: 0 | M9: 1
A10: =IF($E10="","",COUNTA($E$9:$E10)) -> 2 | B10: 46083 | C10: =IF($B10="","",CHOOSE(WEEKDAY($B10,2),"Mo","Di","Mi","Do","Fr","Sa","So")) -> Mo | D10: Finanzen | E10: Monatsabschluss Vormonat prüfen | F10: M. Kraus | G10: Hoch | H10: Erledigt | I10: 4 | J10: 4.5 | K10: =IF($E10="","",IF($J10=0,"",$J10-$I10)) -> 0.5 | L10: 0 | M10: 1
A11: =IF($E11="","",COUNTA($E$9:$E11)) -> 3 | B11: 46084 | C11: =IF($B11="","",CHOOSE(WEEKDAY($B11,2),"Mo","Di","Mi","Do","Fr","Sa","So")) -> Di | D11: Projekt | E11: Projektplan Q2 aktualisieren | F11: A. Berger | G11: Hoch | H11: In Bearbeitung | I11: 3 | J11: 2 | K11: =IF($E11="","",IF($J11=0,"",$J11-$I11)) -> -1 | L11: 0 | M11: 0.6
A12: =IF($E12="","",COUNTA($E$9:$E12)) -> 4 | B12: 46084 | C12: =IF($B12="","",CHOOSE(WEEKDAY($B12,2),"Mo","Di","Mi","Do","Fr","Sa","So")) -> Di | D12: IT | E12: Software-Updates einspielen | F12: T. Neumann | G12: Mittel | H12: Erledigt | I12: 2 | J12: 1.5 | K12: =IF($E12="","",IF($J12=0,"",$J12-$I12)) -> -0.5 | L12: 0 | M12: 1
A13: =IF($E13="","",COUNTA($E$9:$E13)) -> 5 | B13: 46085 | C13: =IF($B13="","",CHOOSE(WEEKDAY($B13,2),"Mo","Di","Mi","Do","Fr","Sa","So")) -> Mi | D13: Vertrieb | E13: Angebot Kunde 1042 erstellen | F13: S. Vogt | G13: Hoch | H13: Erledigt | I13: 2.5 | J13: 3 | K13: =IF($E13="","",IF($J13=0,"",$J13-$I13)) -> 0.5 | L13: 0 | M13: 1
A14: =IF($E14="","",COUNTA($E$9:$E14)) -> 6 | B14: 46086 | C14: =IF($B14="","",CHOOSE(WEEKDAY($B14,2),"Mo","Di","Mi","Do","Fr","Sa","So")) -> Do | D14: Marketing | E14: Newsletter März vorbereiten | F14: L. Hofer | G14: Mittel | H14: In Bearbeitung | I14: 3 | J14: 2.5 | K14: =IF($E14="","",IF($J14=0,"",$J14-$I14)) -> -0.5 | L14: 250 | M14: 0.7
A15: =IF($E15="","",COUNTA($E$9:$E15)) -> 7 | B15: 46087 | C15: =IF($B15="","",CHOOSE(WEEKDAY($B15,2),"Mo","Di","Mi","Do","Fr","Sa","So")) -> Fr | D15: Verwaltung | E15: Ablage & Dokumentation ordnen | F15: A. Berger | G15: Niedrig | H15: Offen | I15: 1.5 | J15: 0 | K15: =IF($E15="","",IF($J15=0,"",$J15-$I15)) | L15: 0 | M15: 0
A16: =IF($E16="","",COUNTA($E$9:$E16)) -> 8 | B16: 46090 | C16: =IF($B16="","",CHOOSE(WEEKDAY($B16,2),"Mo","Di","Mi","Do","Fr","Sa","So")) -> Mo | D16: Personal | E16: Bewerbungsgespräche koordinieren | F16: L. Hofer | G16: Mittel | H16: In Bearbeitung | I16: 2 | J16: 1 | K16: =IF($E16="","",IF($J16=0,"",$J16-$I16)) -> -1 | L16: 0 | M16: 0.4
A17: =IF($E17="","",COUNTA($E$9:$E17)) -> 9 | B17: 46090 | C17: =IF($B17="","",CHOOSE(WEEKDAY($B17,2),"Mo","Di","Mi","Do","Fr","Sa","So")) -> Mo | D17: Projekt | E17: Statusbericht an die Leitung | F17: A. Berger | G17: Hoch | H17: Erledigt | I17: 1.5 | J17: 1.5 | K17: =IF($E17="","",IF($J17=0,"",$J17-$I17)) -> 0 | L17: 0 | M17: 1
A18: =IF($E18="","",COUNTA($E$9:$E18)) -> 10 | B18: 46091 | C18: =IF($B18="","",CHOOSE(WEEKDAY($B18,2),"Mo","Di","Mi","Do","Fr","Sa","So")) -> Di | D18: Finanzen | E18: Eingangsrechnungen freigeben | F18: M. Kraus | G18: Mittel | H18: Erledigt | I18: 1 | J18: 1 | K18: =IF($E18="","",IF($J18=0,"",$J18-$I18)) -> 0 | L18: 0 | M18: 1
A19: =IF($E19="","",COUNTA($E$9:$E19)) -> 11 | B19: 46092 | C19: =IF($B19="","",CHOOSE(WEEKDAY($B19,2),"Mo","Di","Mi","Do","Fr","Sa","So")) -> Mi | D19: Vertrieb | E19: Follow-up Bestandskunden | F19: S. Vogt | G19: Mittel | H19: Offen | I19: 2 | J19: 0 | K19: =IF($E19="","",IF($J19=0,"",$J19-$I19)) | L19: 0 | M19: 0
A20: =IF($E20="","",COUNTA($E$9:$E20)) -> 12 | B20: 46093 | C20: =IF($B20="","",CHOOSE(WEEKDAY($B20,2),"Mo","Di","Mi","Do","Fr","Sa","So")) -> Do | D20: Besprechung | E20: Abstimmung mit Lieferanten | F20: T. Neumann | G20: Mittel | H20: Verschoben | I20: 1 | J20: 0 | K20: =IF($E20="","",IF($J20=0,"",$J20-$I20)) | L20: 0 | M20: 0
... A34: =IF($E34="","",COUNTA($E$9:$E34)) -> 26 | B34: 46112 | C34: =IF($B34="","",CHOOSE(WEEKDAY($B34,2),"Mo","Di","Mi","Do","Fr","Sa","So")) -> Di | D34: Besprechung | E34: Monatsrückblick / Retrospektive | F34: Team | G34: Mittel | H34: Offen | I34: 1.5 | J34: 0 | K34: =IF($E34="","",IF($J34=0,"",$J34-$I34)) | L34: 0 | M34: 0
A35: =IF($E35="","",COUNTA($E$9:$E35)) | C35: =IF($B35="","",CHOOSE(WEEKDAY($B35,2),"Mo","Di","Mi","Do","Fr","Sa","So")) | K35: =IF($E35="","",IF($J35=0,"",$J35-$I35))
A36: =IF($E36="","",COUNTA($E$9:$E36)) | C36: =IF($B36="","",CHOOSE(WEEKDAY($B36,2),"Mo","Di","Mi","Do","Fr","Sa","So")) | K36: =IF($E36="","",IF($J36=0,"",$J36-$I36))
A37: =IF($E37="","",COUNTA($E$9:$E37)) | C37: =IF($B37="","",CHOOSE(WEEKDAY($B37,2),"Mo","Di","Mi","Do","Fr","Sa","So")) | K37: =IF($E37="","",IF($J37=0,"",$J37-$I37))
A38: =IF($E38="","",COUNTA($E$9:$E38)) | C38: =IF($B38="","",CHOOSE(WEEKDAY($B38,2),"Mo","Di","Mi","Do","Fr","Sa","So")) | K38: =IF($E38="","",IF($J38=0,"",$J38-$I38))
A39: =IF($E39="","",COUNTA($E$9:$E39)) | C39: =IF($B39="","",CHOOSE(WEEKDAY($B39,2),"Mo","Di","Mi","Do","Fr","Sa","So")) | K39: =IF($E39="","",IF($J39=0,"",$J39-$I39))
A40: =IF($E40="","",COUNTA($E$9:$E40)) | C40: =IF($B40="","",CHOOSE(WEEKDAY($B40,2),"Mo","Di","Mi","Do","Fr","Sa","So")) | K40: =IF($E40="","",IF($J40=0,"",$J40-$I40))

Sheet Dashboard
A2: Dashboard | I2: Automatische Auswertung · März 2026
A3: Alle Kennzahlen aktualisieren sich beim Ausfüllen des Monatsplans
A5: Kennzahlen im Überblick
B6: =COUNTA(Monatsplan!E9:E40) -> 26 | D6: =COUNTIF(Monatsplan!H9:H40,"Erledigt") -> 8 | F6: =COUNTIF(Monatsplan!H9:H40,"In Bearbeitung") -> 6 | H6: =COUNTIF(Monatsplan!H9:H40,"Offen") -> 11
B7: Aufgaben gesamt | D7: Erledigt | F7: In Bearbeitung | H7: Offen
B9: =IFERROR(COUNTIF(Monatsplan!H9:H40,"Erledigt")/COUNTA(Monatsplan!E9:E40),0) -> 0.30769231 | D9: =IFERROR(AVERAGEIF(Monatsplan!E9:E40,"<>",Monatsplan!M9:M40),0) -> 0.43653846 | F9: =SUM(Monatsplan!J9:J40) -> 25.5 | H9: =SUM(Monatsplan!L9:L40) -> 520
B10: Erledigungsquote | D10: Ø Fortschritt | F10: Ist-Stunden (∑) | H10: Kosten (∑)
A12: Auswertung nach Kategorie | H12: Nach Status
B13: Kategorie | C13: Anzahl | D13: Geplant (Std.) | E13: Ist (Std.) | F13: Kosten (€) | H13: Status | I13: Anzahl | J13: Anteil
B14: =Listen!B5 -> Verwaltung | C14: =COUNTIF(Monatsplan!$D$9:$D$40,$B14) -> 3 | D14: =SUMIF(Monatsplan!$D$9:$D$40,$B14,Monatsplan!$I$9:$I$40) -> 3 | E14: =SUMIF(Monatsplan!$D$9:$D$40,$B14,Monatsplan!$J$9:$J$40) -> 0.5 | F14: =SUMIF(Monatsplan!$D$9:$D$40,$B14,Monatsplan!$L$9:$L$40) -> 270 | H14: =Listen!H5 -> Offen | I14: =COUNTIF(Monatsplan!$H$9:$H$40,$H14) -> 11 | J14: =IFERROR(I14/COUNTA(Monatsplan!$E$9:$E$40),0) -> 0.42307692
B15: =Listen!B6 -> Projekt | C15: =COUNTIF(Monatsplan!$D$9:$D$40,$B15) -> 4 | D15: =SUMIF(Monatsplan!$D$9:$D$40,$B15,Monatsplan!$I$9:$I$40) -> 8 | E15: =SUMIF(Monatsplan!$D$9:$D$40,$B15,Monatsplan!$J$9:$J$40) -> 4.5 | F15: =SUMIF(Monatsplan!$D$9:$D$40,$B15,Monatsplan!$L$9:$L$40) -> 0 | H15: =Listen!H6 -> In Bearbeitung | I15: =COUNTIF(Monatsplan!$H$9:$H$40,$H15) -> 6 | J15: =IFERROR(I15/COUNTA(Monatsplan!$E$9:$E$40),0) -> 0.23076923
B16: =Listen!B7 -> Vertrieb | C16: =COUNTIF(Monatsplan!$D$9:$D$40,$B16) -> 3 | D16: =SUMIF(Monatsplan!$D$9:$D$40,$B16,Monatsplan!$I$9:$I$40) -> 7.5 | E16: =SUMIF(Monatsplan!$D$9:$D$40,$B16,Monatsplan!$J$9:$J$40) -> 3 | F16: =SUMIF(Monatsplan!$D$9:$D$40,$B16,Monatsplan!$L$9:$L$40) -> 0 | H16: =Listen!H7 -> Erledigt | I16: =COUNTIF(Monatsplan!$H$9:$H$40,$H16) -> 8 | J16: =IFERROR(I16/COUNTA(Monatsplan!$E$9:$E$40),0) -> 0.30769231
B17: =Listen!B8 -> Marketing | C17: =COUNTIF(Monatsplan!$D$9:$D$40,$B17) -> 3 | D17: =SUMIF(Monatsplan!$D$9:$D$40,$B17,Monatsplan!$I$9:$I$40) -> 8 | E17: =SUMIF(Monatsplan!$D$9:$D$40,$B17,Monatsplan!$J$9:$J$40) -> 2.5 | F17: =SUMIF(Monatsplan!$D$9:$D$40,$B17,Monatsplan!$L$9:$L$40) -> 250 | H17: =Listen!H8 -> Verschoben | I17: =COUNTIF(Monatsplan!$H$9:$H$40,$H17) -> 1 | J17: =IFERROR(I17/COUNTA(Monatsplan!$E$9:$E$40),0) -> 0.038461538
B18: =Listen!B9 -> Finanzen | C18: =COUNTIF(Monatsplan!$D$9:$D$40,$B18) -> 4 | D18: =SUMIF(Monatsplan!$D$9:$D$40,$B18,Monatsplan!$I$9:$I$40) -> 13 | E18: =SUMIF(Monatsplan!$D$9:$D$40,$B18,Monatsplan!$J$9:$J$40) -> 8.5 | F18: =SUMIF(Monatsplan!$D$9:$D$40,$B18,Monatsplan!$L$9:$L$40) -> 0
B19: =Listen!B10 -> Personal | C19: =COUNTIF(Monatsplan!$D$9:$D$40,$B19) -> 2 | D19: =SUMIF(Monatsplan!$D$9:$D$40,$B19,Monatsplan!$I$9:$I$40) -> 4 | E19: =SUMIF(Monatsplan!$D$9:$D$40,$B19,Monatsplan!$J$9:$J$40) -> 1 | F19: =SUMIF(Monatsplan!$D$9:$D$40,$B19,Monatsplan!$L$9:$L$40) -> 0
B20: =Listen!B11 -> IT | C20: =COUNTIF(Monatsplan!$D$9:$D$40,$B20) -> 3 | D20: =SUMIF(Monatsplan!$D$9:$D$40,$B20,Monatsplan!$I$9:$I$40) -> 6.5 | E20: =SUMIF(Monatsplan!$D$9:$D$40,$B20,Monatsplan!$J$9:$J$40) -> 3.5 | F20: =SUMIF(Monatsplan!$D$9:$D$40,$B20,Monatsplan!$L$9:$L$40) -> 0 | H20: Nach Priorität
B21: =Listen!B12 -> Besprechung | C21: =COUNTIF(Monatsplan!$D$9:$D$40,$B21) -> 4 | D21: =SUMIF(Monatsplan!$D$9:$D$40,$B21,Monatsplan!$I$9:$I$40) -> 4.5 | E21: =SUMIF(Monatsplan!$D$9:$D$40,$B21,Monatsplan!$J$9:$J$40) -> 2 | F21: =SUMIF(Monatsplan!$D$9:$D$40,$B21,Monatsplan!$L$9:$L$40) -> 0 | H21: Priorität | I21: Anzahl | J21: Anteil
B22: =Listen!B13 -> Sonstiges | C22: =COUNTIF(Monatsplan!$D$9:$D$40,$B22) -> 0 | D22: =SUMIF(Monatsplan!$D$9:$D$40,$B22,Monatsplan!$I$9:$I$40) -> 0 | E22: =SUMIF(Monatsplan!$D$9:$D$40,$B22,Monatsplan!$J$9:$J$40) -> 0 | F22: =SUMIF(Monatsplan!$D$9:$D$40,$B22,Monatsplan!$L$9:$L$40) -> 0 | H22: =Listen!F5 -> Hoch | I22: =COUNTIF(Monatsplan!$G$9:$G$40,$H22) -> 9 | J22: =IFERROR(I22/COUNTA(Monatsplan!$E$9:$E$40),0) -> 0.34615385
B23: Gesamt | C23: =SUM(C14:C22) -> 26 | D23: =SUM(D14:D22) -> 54.5 | E23: =SUM(E14:E22) -> 25.5 | F23: =SUM(F14:F22) -> 520 | H23: =Listen!F6 -> Mittel | I23: =COUNTIF(Monatsplan!$G$9:$G$40,$H23) -> 12 | J23: =IFERROR(I23/COUNTA(Monatsplan!$E$9:$E$40),0) -> 0.46153846
H24: =Listen!F7 -> Niedrig | I24: =COUNTIF(Monatsplan!$G$9:$G$40,$H24) -> 5 | J24: =IFERROR(I24/COUNTA(Monatsplan!$E$9:$E$40),0) -> 0.19230769
A25: Auswertung nach Verantwortlich
B26: Verantwortlich | C26: Anzahl | D26: Ist (Std.) | E26: Kosten (€)
B27: =Listen!D5 -> A. Berger | C27: =COUNTIF(Monatsplan!$F$9:$F$40,$B27) -> 7 | D27: =SUMIF(Monatsplan!$F$9:$F$40,$B27,Monatsplan!$J$9:$J$40) -> 5 | E27: =SUMIF(Monatsplan!$F$9:$F$40,$B27,Monatsplan!$L$9:$L$40) -> 270
B28: =Listen!D6 -> S. Vogt | C28: =COUNTIF(Monatsplan!$F$9:$F$40,$B28) -> 3 | D28: =SUMIF(Monatsplan!$F$9:$F$40,$B28,Monatsplan!$J$9:$J$40) -> 3 | E28: =SUMIF(Monatsplan!$F$9:$F$40,$B28,Monatsplan!$L$9:$L$40) -> 0
B29: =Listen!D7 -> M. Kraus | C29: =COUNTIF(Monatsplan!$F$9:$F$40,$B29) -> 4 | D29: =SUMIF(Monatsplan!$F$9:$F$40,$B29,Monatsplan!$J$9:$J$40) -> 8.5 | E29: =SUMIF(Monatsplan!$F$9:$F$40,$B29,Monatsplan!$L$9:$L$40) -> 0
B30: =Listen!D8 -> L. Hofer | C30: =COUNTIF(Monatsplan!$F$9:$F$40,$B30) -> 5 | D30: =SUMIF(Monatsplan!$F$9:$F$40,$B30,Monatsplan!$J$9:$J$40) -> 3.5 | E30: =SUMIF(Monatsplan!$F$9:$F$40,$B30,Monatsplan!$L$9:$L$40) -> 250
B31: =Listen!D9 -> T. Neumann | C31: =COUNTIF(Monatsplan!$F$9:$F$40,$B31) -> 4 | D31: =SUMIF(Monatsplan!$F$9:$F$40,$B31,Monatsplan!$J$9:$J$40) -> 3.5 | E31: =SUMIF(Monatsplan!$F$9:$F$40,$B31,Monatsplan!$L$9:$L$40) -> 0
B32: =Listen!D10 -> Team | C32: =COUNTIF(Monatsplan!$F$9:$F$40,$B32) -> 3 | D32: =SUMIF(Monatsplan!$F$9:$F$40,$B32,Monatsplan!$J$9:$J$40) -> 2 | E32: =SUMIF(Monatsplan!$F$9:$F$40,$B32,Monatsplan!$L$9:$L$40) -> 0

Sheet Listen
A2: Listen & Hinweise
A3: Auswahllisten für die Dropdown-Menüs und Kurzanleitung
B4: Kategorie | D4: Verantwortlich | F4: Priorität | H4: Status
B5: Verwaltung | D5: A. Berger | F5: Hoch | H5: Offen
B6: Projekt | D6: S. Vogt | F6: Mittel | H6: In Bearbeitung
B7: Vertrieb | D7: M. Kraus | F7: Niedrig | H7: Erledigt
B8: Marketing | D8: L. Hofer | H8: Verschoben
B9: Finanzen | D9: T. Neumann
B10: Personal | D10: Team
B11: IT
B12: Besprechung
B13: Sonstiges
B16: So nutzen Sie diese Vorlage
B17: ▸ | C17: Tragen Sie im Blatt »Monatsplan« pro Zeile eine Aufgabe oder einen Termin ein.
B18: ▸ | C18: Hell hinterlegte Spalten (Nr., Wochentag, Abw.) berechnen sich automatisch – bitte nicht überschreiben.
B19: ▸ | C19: Kategorie, Verantwortlich, Priorität und Status wählen Sie über die Dropdown-Menüs aus den obigen Listen.
B20: ▸ | C20: Der Fortschritt wird als Prozentwert (0–100 %) gepflegt; der Balken füllt sich automatisch.
B21: ▸ | C21: Status und Priorität färben sich je nach Wert – so erkennen Sie Offenes und Dringendes auf einen Blick.
B22: ▸ | C22: Das Blatt »Dashboard« wertet alle Einträge automatisch aus (Kennzahlen, Kategorien, Diagramme).
B23: ▸ | C23: Neue Einträge in die nächste freie, bereits formatierte Zeile schreiben (Eingabebereich bis Zeile 40).
B24: ▸ | C24: Passen Sie die Auswahllisten oben an Ihr Team und Ihre Bereiche an – die Auswertung folgt automatisch.
B25: ▸ | C25: Alle eingetragenen Werte sind Beispieldaten und können vollständig ersetzt werden.
B27: Farbcodierung
B28: Erledigt | D28: In Bearbeitung | F28: Offen | H28: Verschoben
