Workbook

Sheet Monatsplan
B2: Unternehmensname | K2: Monatsplan
B3: ABTEILUNG · STANDORT · KOSTENSTELLE | K3: AUFGABEN-, TERMIN- UND RESSOURCENPLANUNG
B6: ZEITRAUM | D6: PLANVERANTWORTUNG | G6: ERSTELLT AM | I6: KOSTENSTELLE | K6: FREIGABE
B7: April 2026 | D7: Team Betrieb | G7: 01.04.2026 | I7: KST-4200 | K7: offen
B9: MONAT AUF EINEN BLICK
B10: =COUNTA(F14:F45) -> 27 | E10: =COUNTIF(I14:I45,"Erledigt") -> 7 | G10: =COUNTIF(I14:I45,"In Arbeit") -> 7 | I10: =COUNTIF(I14:I45,"Offen") -> 12 | K10: =IFERROR(AVERAGEIF(F14:F45,"<>",N14:N45),0) -> 0.3962963 | M10: =SUM(K14:K45) -> 26 | O10: =SUM(M14:M45) -> 1550
B11: Vorgänge gesamt | E11: Erledigt | G11: In Arbeit | I11: Offen | K11: Fortschritt Ø | M11: Ist-Stunden ∑ | O11: Kosten ∑
B12: AUFGABEN & TERMINE | K12: Beispieldaten – vollständig überschreibbar
B13: NR. | C13: DATUM | D13: TAG | E13: KATEGORIE | F13: VORGANG / AUFGABE | G13: VERANTWORTLICH | H13: PRIORITÄT | I13: STATUS | J13: PLAN (STD.) | K13: IST (STD.) | L13: Δ (STD.) | M13: KOSTEN (€) | N13: FORTSCHRITT | O13: ANMERKUNG
B14: =IF($F14="","",COUNTA($F$14:$F14)) -> 1 | C14: 46113 | D14: =IF($C14="","",CHOOSE(WEEKDAY($C14,2),"Mo","Di","Mi","Do","Fr","Sa","So")) -> Mi | E14: Strategie | F14: Quartalsziele Q2 festlegen | G14: C. Adler | H14: Hoch | I14: Erledigt | J14: 3 | K14: 3 | L14: =IF($F14="","",IF($K14=0,"",$K14-$J14)) -> 0 | M14: 0 | N14: 1
B15: =IF($F15="","",COUNTA($F$14:$F15)) -> 2 | C15: 46113 | D15: =IF($C15="","",CHOOSE(WEEKDAY($C15,2),"Mo","Di","Mi","Do","Fr","Sa","So")) -> Mi | E15: Kommunikation | F15: Team-Briefing zum Monatsstart | G15: Team | H15: Mittel | I15: Erledigt | J15: 1 | K15: 1 | L15: =IF($F15="","",IF($K15=0,"",$K15-$J15)) -> 0 | M15: 0 | N15: 1
B16: =IF($F16="","",COUNTA($F$14:$F16)) -> 3 | C16: 46114 | D16: =IF($C16="","",CHOOSE(WEEKDAY($C16,2),"Mo","Di","Mi","Do","Fr","Sa","So")) -> Do | E16: Finanzen | F16: Liquiditätsübersicht aktualisieren | G16: J. Marquardt | H16: Hoch | I16: Erledigt | J16: 2.5 | K16: 2 | L16: =IF($F16="","",IF($K16=0,"",$K16-$J16)) -> -0.5 | M16: 0 | N16: 1
B17: =IF($F17="","",COUNTA($F$14:$F17)) -> 4 | C17: 46114 | D17: =IF($C17="","",CHOOSE(WEEKDAY($C17,2),"Mo","Di","Mi","Do","Fr","Sa","So")) -> Do | E17: Vertrieb | F17: Angebotsnachverfolgung Bestandskunden | G17: R. Frei | H17: Mittel | I17: In Arbeit | J17: 2 | K17: 1.5 | L17: =IF($F17="","",IF($K17=0,"",$K17-$J17)) -> -0.5 | M17: 0 | N17: 0.6
B18: =IF($F18="","",COUNTA($F$14:$F18)) -> 5 | C18: 46115 | D18: =IF($C18="","",CHOOSE(WEEKDAY($C18,2),"Mo","Di","Mi","Do","Fr","Sa","So")) -> Fr | E18: Marketing | F18: Redaktionsplan Q2 abstimmen | G18: P. Sommer | H18: Mittel | I18: In Arbeit | J18: 3 | K18: 2 | L18: =IF($F18="","",IF($K18=0,"",$K18-$J18)) -> -1 | M18: 0 | N18: 0.55
B19: =IF($F19="","",COUNTA($F$14:$F19)) -> 6 | C19: 46119 | D19: =IF($C19="","",CHOOSE(WEEKDAY($C19,2),"Mo","Di","Mi","Do","Fr","Sa","So")) -> Di | E19: IT | F19: Rollout Sicherheitsupdate | G19: D. Reuter | H19: Hoch | I19: Erledigt | J19: 4 | K19: 4.5 | L19: =IF($F19="","",IF($K19=0,"",$K19-$J19)) -> 0.5 | M19: 0 | N19: 1
B20: =IF($F20="","",COUNTA($F$14:$F20)) -> 7 | C20: 46120 | D20: =IF($C20="","",CHOOSE(WEEKDAY($C20,2),"Mo","Di","Mi","Do","Fr","Sa","So")) -> Mi | E20: Personal | F20: Onboarding-Unterlagen überarbeiten | G20: P. Sommer | H20: Niedrig | I20: Offen | J20: 2 | K20: 0 | L20: =IF($F20="","",IF($K20=0,"",$K20-$J20)) | M20: 0 | N20: 0
B21: =IF($F21="","",COUNTA($F$14:$F21)) -> 8 | C21: 46120 | D21: =IF($C21="","",CHOOSE(WEEKDAY($C21,2),"Mo","Di","Mi","Do","Fr","Sa","So")) -> Mi | E21: Betrieb | F21: Lieferantenbewertung durchführen | G21: R. Frei | H21: Mittel | I21: In Arbeit | J21: 2.5 | K21: 1 | L21: =IF($F21="","",IF($K21=0,"",$K21-$J21)) -> -1.5 | M21: 0 | N21: 0.4
B22: =IF($F22="","",COUNTA($F$14:$F22)) -> 9 | C22: 46121 | D22: =IF($C22="","",CHOOSE(WEEKDAY($C22,2),"Mo","Di","Mi","Do","Fr","Sa","So")) -> Do | E22: Finanzen | F22: Reisekostenabrechnung prüfen | G22: J. Marquardt | H22: Mittel | I22: Erledigt | J22: 1.5 | K22: 1.5 | L22: =IF($F22="","",IF($K22=0,"",$K22-$J22)) -> 0 | M22: 0 | N22: 1
B23: =IF($F23="","",COUNTA($F$14:$F23)) -> 10 | C23: 46121 | D23: =IF($C23="","",CHOOSE(WEEKDAY($C23,2),"Mo","Di","Mi","Do","Fr","Sa","So")) -> Do | E23: Strategie | F23: Wettbewerbsanalyse zusammenfassen | G23: C. Adler | H23: Hoch | I23: In Arbeit | J23: 3.5 | K23: 2 | L23: =IF($F23="","",IF($K23=0,"",$K23-$J23)) -> -1.5 | M23: 0 | N23: 0.5
B24: =IF($F24="","",COUNTA($F$14:$F24)) -> 11 | C24: 46122 | D24: =IF($C24="","",CHOOSE(WEEKDAY($C24,2),"Mo","Di","Mi","Do","Fr","Sa","So")) -> Fr | E24: Vertrieb | F24: Präsentation Jahresgespräch Kunde A | G24: R. Frei | H24: Hoch | I24: Offen | J24: 3 | K24: 0 | L24: =IF($F24="","",IF($K24=0,"",$K24-$J24)) | M24: 0 | N24: 0
B25: =IF($F25="","",COUNTA($F$14:$F25)) -> 12 | C25: 46125 | D25: =IF($C25="","",CHOOSE(WEEKDAY($C25,2),"Mo","Di","Mi","Do","Fr","Sa","So")) -> Mo | E25: Marketing | F25: Kampagnenbudget freigeben | G25: P. Sommer | H25: Hoch | I25: Erledigt | J25: 1 | K25: 1 | L25: =IF($F25="","",IF($K25=0,"",$K25-$J25)) -> 0 | M25: 1200 | N25: 1
... B40: =IF($F40="","",COUNTA($F$14:$F40)) -> 27 | C40: 46142 | D40: =IF($C40="","",CHOOSE(WEEKDAY($C40,2),"Mo","Di","Mi","Do","Fr","Sa","So")) -> Do | E40: Strategie | F40: Monatsreview & Ausblick Mai | G40: Team | H40: Hoch | I40: Offen | J40: 2 | K40: 0 | L40: =IF($F40="","",IF($K40=0,"",$K40-$J40)) | M40: 0 | N40: 0
B41: =IF($F41="","",COUNTA($F$14:$F41)) | D41: =IF($C41="","",CHOOSE(WEEKDAY($C41,2),"Mo","Di","Mi","Do","Fr","Sa","So")) | L41: =IF($F41="","",IF($K41=0,"",$K41-$J41))
B42: =IF($F42="","",COUNTA($F$14:$F42)) | D42: =IF($C42="","",CHOOSE(WEEKDAY($C42,2),"Mo","Di","Mi","Do","Fr","Sa","So")) | L42: =IF($F42="","",IF($K42=0,"",$K42-$J42))
B43: =IF($F43="","",COUNTA($F$14:$F43)) | D43: =IF($C43="","",CHOOSE(WEEKDAY($C43,2),"Mo","Di","Mi","Do","Fr","Sa","So")) | L43: =IF($F43="","",IF($K43=0,"",$K43-$J43))
B44: =IF($F44="","",COUNTA($F$14:$F44)) | D44: =IF($C44="","",CHOOSE(WEEKDAY($C44,2),"Mo","Di","Mi","Do","Fr","Sa","So")) | L44: =IF($F44="","",IF($K44=0,"",$K44-$J44))
B45: =IF($F45="","",COUNTA($F$14:$F45)) | D45: =IF($C45="","",CHOOSE(WEEKDAY($C45,2),"Mo","Di","Mi","Do","Fr","Sa","So")) | L45: =IF($F45="","",IF($K45=0,"",$K45-$J45))

Sheet Dashboard
B2: Dashboard | H2: Monatsplan · April 2026
B3: AUTOMATISCHE AUSWERTUNG | H3: AKTUALISIERT SICH BEIM AUSFÜLLEN
B6: KENNZAHLEN
B7: =COUNTA(Monatsplan!F14:F45) -> 27 | D7: =COUNTIF(Monatsplan!I14:I45,"Erledigt") -> 7 | H7: =COUNTIF(Monatsplan!I14:I45,"In Arbeit") -> 7 | J7: =COUNTIF(Monatsplan!I14:I45,"Offen") -> 12
B8: Vorgänge gesamt | D8: Erledigt | H8: In Arbeit | J8: Offen
B10: =IFERROR(COUNTIF(Monatsplan!I14:I45,"Erledigt")/COUNTA(Monatsplan!F14:F45),0) -> 0.25925926 | D10: =IFERROR(AVERAGEIF(Monatsplan!F14:F45,"<>",Monatsplan!N14:N45),0) -> 0.3962963 | H10: =SUM(Monatsplan!K14:K45) -> 26 | J10: =SUM(Monatsplan!M14:M45) -> 1550
B11: Erledigungsquote | D11: Fortschritt Ø | H11: Ist-Stunden ∑ | J11: Kosten ∑
B13: NACH KATEGORIE | H13: NACH STATUS
B14: Kategorie | C14: Anzahl | D14: Plan (Std.) | E14: Ist (Std.) | F14: Kosten (€) | H14: Status | I14: Anzahl | J14: Anteil
B15: =Listen!B7 -> Strategie | C15: =COUNTIF(Monatsplan!$E$14:$E$45,$B15) -> 4 | D15: =SUMIF(Monatsplan!$E$14:$E$45,$B15,Monatsplan!$J$14:$J$45) -> 11.5 | E15: =SUMIF(Monatsplan!$E$14:$E$45,$B15,Monatsplan!$K$14:$K$45) -> 5 | F15: =SUMIF(Monatsplan!$E$14:$E$45,$B15,Monatsplan!$M$14:$M$45) -> 0 | H15: =Listen!H7 -> Offen | I15: =COUNTIF(Monatsplan!$I$14:$I$45,$H15) -> 12 | J15: =IFERROR(I15/COUNTA(Monatsplan!$F$14:$F$45),0) -> 0.44444444
B16: =Listen!B8 -> Vertrieb | C16: =COUNTIF(Monatsplan!$E$14:$E$45,$B16) -> 3 | D16: =SUMIF(Monatsplan!$E$14:$E$45,$B16,Monatsplan!$J$14:$J$45) -> 7.5 | E16: =SUMIF(Monatsplan!$E$14:$E$45,$B16,Monatsplan!$K$14:$K$45) -> 1.5 | F16: =SUMIF(Monatsplan!$E$14:$E$45,$B16,Monatsplan!$M$14:$M$45) -> 0 | H16: =Listen!H8 -> In Arbeit | I16: =COUNTIF(Monatsplan!$I$14:$I$45,$H16) -> 7 | J16: =IFERROR(I16/COUNTA(Monatsplan!$F$14:$F$45),0) -> 0.25925926
B17: =Listen!B9 -> Marketing | C17: =COUNTIF(Monatsplan!$E$14:$E$45,$B17) -> 3 | D17: =SUMIF(Monatsplan!$E$14:$E$45,$B17,Monatsplan!$J$14:$J$45) -> 6.5 | E17: =SUMIF(Monatsplan!$E$14:$E$45,$B17,Monatsplan!$K$14:$K$45) -> 4.5 | F17: =SUMIF(Monatsplan!$E$14:$E$45,$B17,Monatsplan!$M$14:$M$45) -> 1200 | H17: =Listen!H9 -> Erledigt | I17: =COUNTIF(Monatsplan!$I$14:$I$45,$H17) -> 7 | J17: =IFERROR(I17/COUNTA(Monatsplan!$F$14:$F$45),0) -> 0.25925926
B18: =Listen!B10 -> Finanzen | C18: =COUNTIF(Monatsplan!$E$14:$E$45,$B18) -> 4 | D18: =SUMIF(Monatsplan!$E$14:$E$45,$B18,Monatsplan!$J$14:$J$45) -> 11.5 | E18: =SUMIF(Monatsplan!$E$14:$E$45,$B18,Monatsplan!$K$14:$K$45) -> 5.5 | F18: =SUMIF(Monatsplan!$E$14:$E$45,$B18,Monatsplan!$M$14:$M$45) -> 0 | H18: =Listen!H10 -> Zurückgestellt | I18: =COUNTIF(Monatsplan!$I$14:$I$45,$H18) -> 1 | J18: =IFERROR(I18/COUNTA(Monatsplan!$F$14:$F$45),0) -> 0.037037037
B19: =Listen!B11 -> Personal | C19: =COUNTIF(Monatsplan!$E$14:$E$45,$B19) -> 3 | D19: =SUMIF(Monatsplan!$E$14:$E$45,$B19,Monatsplan!$J$14:$J$45) -> 5 | E19: =SUMIF(Monatsplan!$E$14:$E$45,$B19,Monatsplan!$K$14:$K$45) -> 0 | F19: =SUMIF(Monatsplan!$E$14:$E$45,$B19,Monatsplan!$M$14:$M$45) -> 0
B20: =Listen!B12 -> IT | C20: =COUNTIF(Monatsplan!$E$14:$E$45,$B20) -> 3 | D20: =SUMIF(Monatsplan!$E$14:$E$45,$B20,Monatsplan!$J$14:$J$45) -> 9 | E20: =SUMIF(Monatsplan!$E$14:$E$45,$B20,Monatsplan!$K$14:$K$45) -> 7 | F20: =SUMIF(Monatsplan!$E$14:$E$45,$B20,Monatsplan!$M$14:$M$45) -> 0
B21: =Listen!B13 -> Betrieb | C21: =COUNTIF(Monatsplan!$E$14:$E$45,$B21) -> 4 | D21: =SUMIF(Monatsplan!$E$14:$E$45,$B21,Monatsplan!$J$14:$J$45) -> 8.5 | E21: =SUMIF(Monatsplan!$E$14:$E$45,$B21,Monatsplan!$K$14:$K$45) -> 1 | F21: =SUMIF(Monatsplan!$E$14:$E$45,$B21,Monatsplan!$M$14:$M$45) -> 350 | H21: NACH PRIORITÄT
B22: =Listen!B14 -> Kommunikation | C22: =COUNTIF(Monatsplan!$E$14:$E$45,$B22) -> 3 | D22: =SUMIF(Monatsplan!$E$14:$E$45,$B22,Monatsplan!$J$14:$J$45) -> 3.5 | E22: =SUMIF(Monatsplan!$E$14:$E$45,$B22,Monatsplan!$K$14:$K$45) -> 1.5 | F22: =SUMIF(Monatsplan!$E$14:$E$45,$B22,Monatsplan!$M$14:$M$45) -> 0 | H22: Priorität | I22: Anzahl | J22: Anteil
B23: =Listen!B15 -> Sonstiges | C23: =COUNTIF(Monatsplan!$E$14:$E$45,$B23) -> 0 | D23: =SUMIF(Monatsplan!$E$14:$E$45,$B23,Monatsplan!$J$14:$J$45) -> 0 | E23: =SUMIF(Monatsplan!$E$14:$E$45,$B23,Monatsplan!$K$14:$K$45) -> 0 | F23: =SUMIF(Monatsplan!$E$14:$E$45,$B23,Monatsplan!$M$14:$M$45) -> 0 | H23: =Listen!F7 -> Hoch | I23: =COUNTIF(Monatsplan!$H$14:$H$45,$H23) -> 11 | J23: =IFERROR(I23/COUNTA(Monatsplan!$F$14:$F$45),0) -> 0.40740741
B24: Gesamt | C24: =SUM(C15:C23) -> 27 | D24: =SUM(D15:D23) -> 63 | E24: =SUM(E15:E23) -> 26 | F24: =SUM(F15:F23) -> 1550 | H24: =Listen!F8 -> Mittel | I24: =COUNTIF(Monatsplan!$H$14:$H$45,$H24) -> 12 | J24: =IFERROR(I24/COUNTA(Monatsplan!$F$14:$F$45),0) -> 0.44444444
H25: =Listen!F9 -> Niedrig | I25: =COUNTIF(Monatsplan!$H$14:$H$45,$H25) -> 4 | J25: =IFERROR(I25/COUNTA(Monatsplan!$F$14:$F$45),0) -> 0.14814815
B26: NACH VERANTWORTLICH
B27: Verantwortlich | C27: Anzahl | D27: Ist (Std.) | E27: Kosten (€)
B28: =Listen!D7 -> C. Adler | C28: =COUNTIF(Monatsplan!$G$14:$G$45,$B28) -> 5 | D28: =SUMIF(Monatsplan!$G$14:$G$45,$B28,Monatsplan!$K$14:$K$45) -> 5 | E28: =SUMIF(Monatsplan!$G$14:$G$45,$B28,Monatsplan!$M$14:$M$45) -> 0
B29: =Listen!D8 -> R. Frei | C29: =COUNTIF(Monatsplan!$G$14:$G$45,$B29) -> 5 | D29: =SUMIF(Monatsplan!$G$14:$G$45,$B29,Monatsplan!$K$14:$K$45) -> 2.5 | E29: =SUMIF(Monatsplan!$G$14:$G$45,$B29,Monatsplan!$M$14:$M$45) -> 0
B30: =Listen!D9 -> J. Marquardt | C30: =COUNTIF(Monatsplan!$G$14:$G$45,$B30) -> 4 | D30: =SUMIF(Monatsplan!$G$14:$G$45,$B30,Monatsplan!$K$14:$K$45) -> 5.5 | E30: =SUMIF(Monatsplan!$G$14:$G$45,$B30,Monatsplan!$M$14:$M$45) -> 0
B31: =Listen!D10 -> P. Sommer | C31: =COUNTIF(Monatsplan!$G$14:$G$45,$B31) -> 6 | D31: =SUMIF(Monatsplan!$G$14:$G$45,$B31,Monatsplan!$K$14:$K$45) -> 5 | E31: =SUMIF(Monatsplan!$G$14:$G$45,$B31,Monatsplan!$M$14:$M$45) -> 1200
B32: =Listen!D11 -> D. Reuter | C32: =COUNTIF(Monatsplan!$G$14:$G$45,$B32) -> 5 | D32: =SUMIF(Monatsplan!$G$14:$G$45,$B32,Monatsplan!$K$14:$K$45) -> 7 | E32: =SUMIF(Monatsplan!$G$14:$G$45,$B32,Monatsplan!$M$14:$M$45) -> 350
B33: =Listen!D12 -> Team | C33: =COUNTIF(Monatsplan!$G$14:$G$45,$B33) -> 2 | D33: =SUMIF(Monatsplan!$G$14:$G$45,$B33,Monatsplan!$K$14:$K$45) -> 1 | E33: =SUMIF(Monatsplan!$G$14:$G$45,$B33,Monatsplan!$M$14:$M$45) -> 0

Sheet Listen
B2: Listen & Hinweise
B3: AUSWAHLLISTEN FÜR DIE DROPDOWNS · KURZANLEITUNG
B6: KATEGORIE | D6: VERANTWORTLICH | F6: PRIORITÄT | H6: STATUS
B7: Strategie | D7: C. Adler | F7: Hoch | H7: Offen
B8: Vertrieb | D8: R. Frei | F8: Mittel | H8: In Arbeit
B9: Marketing | D9: J. Marquardt | F9: Niedrig | H9: Erledigt
B10: Finanzen | D10: P. Sommer | H10: Zurückgestellt
B11: Personal | D11: D. Reuter
B12: IT | D12: Team
B13: Betrieb
B14: Kommunikation
B15: Sonstiges
B17: So nutzen Sie diese Vorlage
B18: — | C18: Tragen Sie im Blatt »Monatsplan« pro Zeile einen Vorgang oder Termin ein.
B19: — | C19: Hell gehaltene Spalten (Nr., Tag, Δ) berechnen sich automatisch – bitte nicht überschreiben.
B20: — | C20: Kategorie, Verantwortlich, Priorität und Status wählen Sie über die Dropdown-Menüs aus diesen Listen.
B21: — | C21: Der Fortschritt wird als Prozentwert (0–100 %) gepflegt; der Balken füllt sich automatisch.
B22: — | C22: Status und Priorität sind farblich hinterlegt – Offenes und Dringendes ist sofort erkennbar.
B23: — | C23: Das Blatt »Dashboard« wertet alle Einträge automatisch aus (Kennzahlen, Kategorien, Diagramme).
B24: — | C24: Neue Einträge in die nächste freie, bereits formatierte Zeile schreiben (Eingabebereich bis Zeile 45).
B25: — | C25: Passen Sie die Auswahllisten an Ihr Team und Ihre Bereiche an – die Auswertung folgt automatisch.
B26: — | C26: Alle eingetragenen Werte sind Beispieldaten und lassen sich vollständig ersetzen.
B28: Farbcodierung Status
B29: Erledigt | D29: In Arbeit | F29: Offen | H29: Zurückgestellt
