Workbook

Sheet Übersicht
B1: Vermögensübersicht
B2: Vermögen · Schulden · Nettovermögen zum Stichtag
B4: ="Stichtag: "&TEXT(Vermögensaufstellung!D3,"DD.MM.AAAA") -> Stichtag: 31.12.2026
B6: Kennzahlen auf einen Blick
B7: Gesamtvermögen | C7: Gesamtschulden | D7: Nettovermögen | E7: Schuldenquote | F7: Nettoquote (Eigenkapital)
B8: =Vermögensaufstellung!G31 -> 473600 | C8: =Vermögensaufstellung!G47 -> 190700 | D8: =Vermögensaufstellung!G49 -> 282900 | E8: =IFERROR(Vermögensaufstellung!G47/Vermögensaufstellung!G31,0) -> 0.40266047 | F8: =IFERROR(Vermögensaufstellung!G49/Vermögensaufstellung!G31,0) -> 0.59733953
B10: Vermögensverteilung nach Kategorie
B11: Kategorie | C11: Wert (€) | D11: Anteil
B12: Liquide Mittel | C12: =SUMIF(Vermögensaufstellung!$C$7:$C$30,B12,Vermögensaufstellung!$G$7:$G$30) -> 40400 | D12: =IFERROR(C12/Vermögensaufstellung!G31,0) -> 0.085304054
B13: Wertpapiere / Depot | C13: =SUMIF(Vermögensaufstellung!$C$7:$C$30,B13,Vermögensaufstellung!$G$7:$G$30) -> 47700 | D13: =IFERROR(C13/Vermögensaufstellung!G31,0) -> 0.10071791
B14: Immobilien | C14: =SUMIF(Vermögensaufstellung!$C$7:$C$30,B14,Vermögensaufstellung!$G$7:$G$30) -> 340000 | D14: =IFERROR(C14/Vermögensaufstellung!G31,0) -> 0.71790541
B15: Fahrzeuge | C15: =SUMIF(Vermögensaufstellung!$C$7:$C$30,B15,Vermögensaufstellung!$G$7:$G$30) -> 14000 | D15: =IFERROR(C15/Vermögensaufstellung!G31,0) -> 0.029560811
B16: Altersvorsorge | C16: =SUMIF(Vermögensaufstellung!$C$7:$C$30,B16,Vermögensaufstellung!$G$7:$G$30) -> 22000 | D16: =IFERROR(C16/Vermögensaufstellung!G31,0) -> 0.046452703
B17: Edelmetalle | C17: =SUMIF(Vermögensaufstellung!$C$7:$C$30,B17,Vermögensaufstellung!$G$7:$G$30) -> 6500 | D17: =IFERROR(C17/Vermögensaufstellung!G31,0) -> 0.013724662
B18: Kryptowährungen | C18: =SUMIF(Vermögensaufstellung!$C$7:$C$30,B18,Vermögensaufstellung!$G$7:$G$30) -> 3000 | D18: =IFERROR(C18/Vermögensaufstellung!G31,0) -> 0.0063344595
B19: Beteiligungen | C19: =SUMIF(Vermögensaufstellung!$C$7:$C$30,B19,Vermögensaufstellung!$G$7:$G$30) -> 0 | D19: =IFERROR(C19/Vermögensaufstellung!G31,0) -> 0
B20: Sonstiges | C20: =SUMIF(Vermögensaufstellung!$C$7:$C$30,B20,Vermögensaufstellung!$G$7:$G$30) -> 0 | D20: =IFERROR(C20/Vermögensaufstellung!G31,0) -> 0
B21: Gesamt | C21: =SUM(C12:C20) -> 473600 | D21: =IFERROR(C21/Vermögensaufstellung!G31,0) -> 1
B23: Vermögen · Schulden · Nettovermögen
B24: Vermögen | C24: =Vermögensaufstellung!G31 -> 473600
B25: Schulden | C25: =Vermögensaufstellung!G47 -> 190700
B26: Nettovermögen | C26: =Vermögensaufstellung!G49 -> 282900
B38: Alle Kennzahlen aktualisieren sich automatisch aus dem Blatt „Vermögensaufstellung“. Beispielwerte frei erfunden · kein amtliches Formular · DSGVO beachten.

Sheet Vermögensaufstellung
B1: Vermögensaufstellung
B2: Erfassung von Vermögenswerten und Verbindlichkeiten zu einem Stichtag
B3: Stichtag: | D3: 46387 | E3: ← Datum eintragen; alle Werte beziehen sich auf diesen Zeitpunkt
B5: 1 · Vermögenswerte
B6: Position / Bezeichnung | C6: Kategorie | D6: Institut / Detail | E6: Wertbasis | F6: Anschaffungswert (€) | G6: Aktueller Wert (€) | H6: Anteil % | I6: Notiz
B7: Girokonto | C7: Liquide Mittel | D7: Hausbank | E7: Nominalwert | G7: 4800 | H7: =IF(G7="","",IFERROR(G7/$G$31,0)) -> 0.010135135 | I7: laufendes Konto
B8: Tagesgeldkonto | C8: Liquide Mittel | D8: Direktbank | E8: Nominalwert | G8: 15000 | H8: =IF(G8="","",IFERROR(G8/$G$31,0)) -> 0.031672297 | I8: Notgroschen
B9: Festgeld 12 Monate | C9: Liquide Mittel | D9: Onlinebank | E9: Nominalwert | F9: 20000 | G9: 20000 | H9: =IF(G9="","",IFERROR(G9/$G$31,0)) -> 0.04222973 | I9: Laufzeit bis 2027
B10: Bargeld | C10: Liquide Mittel | D10: Haushalt | E10: Nominalwert | G10: 600 | H10: =IF(G10="","",IFERROR(G10/$G$31,0)) -> 0.0012668919
B11: ETF-Weltdepot | C11: Wertpapiere / Depot | D11: Onlinebroker | E11: Kurswert | F11: 30000 | G11: 38500 | H11: =IF(G11="","",IFERROR(G11/$G$31,0)) -> 0.08129223 | I11: monatlicher Sparplan
B12: Einzelaktien | C12: Wertpapiere / Depot | D12: Onlinebroker | E12: Kurswert | F12: 8000 | G12: 9200 | H12: =IF(G12="","",IFERROR(G12/$G$31,0)) -> 0.019425676
B13: Eigentumswohnung | C13: Immobilien | D13: Musterstraße 10 | E13: Verkehrswert | F13: 280000 | G13: 340000 | H13: =IF(G13="","",IFERROR(G13/$G$31,0)) -> 0.71790541 | I13: Gutachten 2025
B14: PKW Kombi | C14: Fahrzeuge | D14: Erstzulassung 2022 | E14: Marktwert | F14: 32000 | G14: 14000 | H14: =IF(G14="","",IFERROR(G14/$G$31,0)) -> 0.029560811 | I14: Schätzwert
B15: Lebensversicherung | C15: Altersvorsorge | D15: Versicherer | E15: Rückkaufswert | G15: 22000 | H15: =IF(G15="","",IFERROR(G15/$G$31,0)) -> 0.046452703 | I15: Ablauf 2040
B16: Goldbarren / Münzen | C16: Edelmetalle | D16: Tresor | E16: Marktwert | F16: 5000 | G16: 6500 | H16: =IF(G16="","",IFERROR(G16/$G$31,0)) -> 0.013724662 | I16: 100 g + Münzen
B17: Kryptowährungen | C17: Kryptowährungen | D17: Wallet | E17: Kurswert | F17: 2500 | G17: 3000 | H17: =IF(G17="","",IFERROR(G17/$G$31,0)) -> 0.0063344595 | I17: diversifiziert
H18: =IF(G18="","",IFERROR(G18/$G$31,0))
H19: =IF(G19="","",IFERROR(G19/$G$31,0))
H20: =IF(G20="","",IFERROR(G20/$G$31,0))
H21: =IF(G21="","",IFERROR(G21/$G$31,0))
H22: =IF(G22="","",IFERROR(G22/$G$31,0))
H23: =IF(G23="","",IFERROR(G23/$G$31,0))
H24: =IF(G24="","",IFERROR(G24/$G$31,0))
H25: =IF(G25="","",IFERROR(G25/$G$31,0))
H26: =IF(G26="","",IFERROR(G26/$G$31,0))
H27: =IF(G27="","",IFERROR(G27/$G$31,0))
H28: =IF(G28="","",IFERROR(G28/$G$31,0))
H29: =IF(G29="","",IFERROR(G29/$G$31,0))
H30: =IF(G30="","",IFERROR(G30/$G$31,0))
B31: Gesamtvermögen | F31: =SUM(F7:F30) -> 377500 | G31: =SUM(G7:G30) -> 473600 | H31: =IFERROR(G31/G31,1) -> 1
B33: 2 · Verbindlichkeiten (Schulden)
B34: Position / Bezeichnung | C34: Kategorie | D34: Institut / Detail | E34: Wertbasis | F34: Anschaffungswert (€) | G34: Aktueller Wert (€) | H34: Anteil % | I34: Notiz
B35: Immobiliendarlehen | C35: Immobiliendarlehen | D35: Baufinanzierung | E35: Restschuld | F35: 250000 | G35: 182000 | H35: =IF(G35="","",IFERROR(G35/$G$47,0)) -> 0.95437861 | I35: Zins bis 2031 gebunden
B36: Ratenkredit PKW | C36: Konsum-/Ratenkredit | D36: Autobank | E36: Restschuld | F36: 18000 | G36: 7500 | H36: =IF(G36="","",IFERROR(G36/$G$47,0)) -> 0.039328789 | I36: Rate 250 €/Monat
B37: Kreditkarte | C37: Kreditkarte | D37: Kartenanbieter | E37: Restschuld | G37: 1200 | H37: =IF(G37="","",IFERROR(G37/$G$47,0)) -> 0.0062926062 | I37: wird monatlich getilgt
H38: =IF(G38="","",IFERROR(G38/$G$47,0))
H39: =IF(G39="","",IFERROR(G39/$G$47,0))
H40: =IF(G40="","",IFERROR(G40/$G$47,0))
H41: =IF(G41="","",IFERROR(G41/$G$47,0))
H42: =IF(G42="","",IFERROR(G42/$G$47,0))
H43: =IF(G43="","",IFERROR(G43/$G$47,0))
H44: =IF(G44="","",IFERROR(G44/$G$47,0))
H45: =IF(G45="","",IFERROR(G45/$G$47,0))
H46: =IF(G46="","",IFERROR(G46/$G$47,0))
B47: Gesamtschulden | F47: =SUM(F35:F46) -> 268000 | G47: =SUM(G35:G46) -> 190700 | H47: =IFERROR(G47/G47,1) -> 1
B49: NETTOVERMÖGEN (Vermögen − Schulden) | G49: =G31-G47 -> 282900

Sheet Stammdaten & Hinweise
B2: Stammdaten & Hinweise
B3: Auswahllisten für die Dropdowns und Erläuterungen zur Nutzung
B5: Kategorien Vermögen | D5: Kategorien Schulden | F5: Wertbasis
B6: Liquide Mittel | D6: Immobiliendarlehen | F6: Marktwert
B7: Wertpapiere / Depot | D7: Konsum-/Ratenkredit | F7: Verkehrswert
B8: Immobilien | D8: Kreditkarte | F8: Kurswert
B9: Fahrzeuge | D9: Privatdarlehen | F9: Rückkaufswert
B10: Altersvorsorge | D10: Sonstige Verbindlichkeit | F10: Buchwert
B11: Edelmetalle | F11: Nominalwert
B12: Kryptowährungen | F12: Restschuld
B13: Beteiligungen
B14: Sonstiges
B17: Kurzanleitung
B18: 1. Stichtag festlegen
B19: Trage oben im Blatt „Vermögensaufstellung“ den Stichtag ein (z. B. 31.12.2026). Alle Werte beziehen sich auf diesen Zeitpunkt.
B20: 2. Vermögen erfassen
B21: Liste im oberen Block alle Vermögenswerte auf: Konten, Bargeld, Depots, Immobilien, Fahrzeuge, Altersvorsorge und Sonstiges – je Position eine Zeile.
B22: 3. Schulden erfassen
B23: Trage im unteren Block alle Verbindlichkeiten mit ihrer aktuellen Restschuld ein, nicht mit dem ursprünglichen Kreditbetrag.
B24: 4. Wertbasis wählen
B25: Gib je Position an, worauf der Wert beruht (Verkehrswert bei Immobilien, Kurswert bei Depots, Rückkaufswert bei Versicherungen, Restschuld bei Krediten).
B26: 5. Automatische Summen
... B33: Hinweis: Diese Vorlage dient der privaten Finanzübersicht und ist kein amtliches Formular. Beispielwerte frei erfunden · DSGVO beim Speichern echter Finanzdaten beachten.
